BEGIN:VCALENDAR
VERSION:2.0
PRODID:-//Plone.org//NONSGML plone.app.event//EN
X-WR-TIMEZONE:Europe/Berlin
BEGIN:VEVENT
SUMMARY:Daniela Comani: „Orlando’s Library“ – Installation in der 
 Zentralen Universitätsbibliothek Marburg | 27. April–17. Juli 2026
DTSTART;TZID=Europe/Berlin:20260427T180000
DTEND;TZID=Europe/Berlin:20260717T235900
DTSTAMP:20260425T211837Z
UID:eb24eb7c2ed34388b6e03ccad5b4492c@www.uni-marburg.de
CATEGORIES:()
CREATED:20260416T064655Z
DESCRIPTION:https://www.uni-marburg.de/de/fb09/khi/aktuelles/termine/danie
 la-comani-orlandos-library-installation-in-der-zentralen-universitaetsbibl
 iothek-marburg-27-april-17-juli-2026\nAusstellung und Veranstaltungen im R
 ahmen der Reihe „#SpeakingOfMultitudes #5“
LAST-MODIFIED:20260416T111505Z
LOCATION:Zentralbibliothek der Philipps-Universität Marburg
URL:https://www.uni-marburg.de/de/fb09/khi/aktuelles/termine/daniela-coman
 i-orlandos-library-installation-in-der-zentralen-universitaetsbibliothek-m
 arburg-27-april-17-juli-2026
END:VEVENT
BEGIN:VTIMEZONE
TZID:Europe/Berlin
X-LIC-LOCATION:Europe/Berlin
BEGIN:DAYLIGHT
DTSTART:20260329T030000
TZNAME:CEST
TZOFFSETFROM:+0100
TZOFFSETTO:+0200
END:DAYLIGHT
END:VTIMEZONE
END:VCALENDAR
