BEGIN:VCALENDAR
VERSION:2.0
PRODID:-//Plone.org//NONSGML plone.app.event//EN
X-WR-TIMEZONE:Europe/Berlin
BEGIN:VEVENT
SUMMARY:Tagung | Audiovisuelle Inszenierungen von Gender – Zwischen Äst
 hetisierung und Politisierung
DTSTART;TZID=Europe/Berlin:20260618T140000
DTEND;TZID=Europe/Berlin:20260620T143000
DTSTAMP:20260425T214233Z
UID:5e62b0ac252f4417a63876756b97a9c8@www.uni-marburg.de
CATEGORIES:tagung,kunstgeschichte,musikwissenschaft,filmwissenschaft,film,
 gender
CREATED:20260422T074129Z
DESCRIPTION:https://www.uni-marburg.de/de/fb09/khi/aktuelles/termine/tagun
 g-audiovisuelle-inszenierungen-von-gender-zwischen-aesthetisierung-und-pol
 itisierung\n20. Symposium der Kieler Gesellschaft für Filmmusikforschung
LAST-MODIFIED:20260422T075830Z
LOCATION:Vortragssaal Deutsches Dokumentationszentrum für Kunstgeschichte
  – Bildarchiv Foto Marburg Pilgrimstein 14\, Philipps-Universität Marbu
 rg
URL:https://www.uni-marburg.de/de/fb09/khi/aktuelles/termine/tagung-audiov
 isuelle-inszenierungen-von-gender-zwischen-aesthetisierung-und-politisieru
 ng
END:VEVENT
BEGIN:VTIMEZONE
TZID:Europe/Berlin
X-LIC-LOCATION:Europe/Berlin
BEGIN:DAYLIGHT
DTSTART:20260329T030000
TZNAME:CEST
TZOFFSETFROM:+0100
TZOFFSETTO:+0200
END:DAYLIGHT
END:VTIMEZONE
END:VCALENDAR
