BEGIN:VCALENDAR
VERSION:2.0
PRODID:-//Plone.org//NONSGML plone.app.event//EN
X-WR-TIMEZONE:Europe/Berlin
BEGIN:VEVENT
SUMMARY:Buchvorstellung: "Afro-Amerikanische Regisseurinnen und ihre neuen
  Bilderwelten" von Karen A. Ritzenhoff
DTSTART;TZID=Europe/Berlin:20250617T180000
DTEND;TZID=Europe/Berlin:20250617T200000
DTSTAMP:20260424T054858Z
UID:ae450b2a1ecd4b008e7eb5c3ecacc51d@www.uni-marburg.de
ATTENDEE;CN="Karen A. Ritzenhoff, Ph.D.";ROLE=REQ-PARTICIPANT:Karen A. Rit
 zenhoff, Ph.D.
CREATED:20250331T202407Z
DESCRIPTION:https://www.uni-marburg.de/de/fb09/medienwissenschaft/aktuelle
 s/termine/book-launch-von-harriet-zu-queen-and-slim\n
LAST-MODIFIED:20250509T083615Z
LOCATION:Biegenstr. 36\, Seminarraum 1. Stock
URL:https://www.uni-marburg.de/de/fb09/medienwissenschaft/aktuelles/termin
 e/book-launch-von-harriet-zu-queen-and-slim
END:VEVENT
BEGIN:VTIMEZONE
TZID:Europe/Berlin
X-LIC-LOCATION:Europe/Berlin
BEGIN:DAYLIGHT
DTSTART:20250330T030000
TZNAME:CEST
TZOFFSETFROM:+0100
TZOFFSETTO:+0200
END:DAYLIGHT
END:VTIMEZONE
END:VCALENDAR
