BEGIN:VCALENDAR
VERSION:2.0
PRODID:-//Plone.org//NONSGML plone.app.event//EN
X-WR-TIMEZONE:Europe/Berlin
BEGIN:VEVENT
SUMMARY:DOING AUDIO-VISUAL MEDIA IX: Zwischen Terra X und High End - TV-Do
 kumentationen and beyond
DTSTART;TZID=Europe/Berlin:20220622T170000
DTEND;TZID=Europe/Berlin:20220622T203000
DTSTAMP:20260424T210712Z
UID:349951b38edf4a6c8dcd9cd290f655a3@www.uni-marburg.de
CREATED:20220601T142619Z
DESCRIPTION:https://www.uni-marburg.de/de/fb09/medienwissenschaft/aktuelle
 s/termine/doing-audio-visual-media-ix-zwischen-terra-x-und-high-end-tv-dok
 umentationen-and-beyond\nInnerhalb der medienpraktischen Veranstaltungsrei
 he DOING  AUDIO-VISUAL MEDIA des Instituts für Medienwissenschaft wird am
  22.06. Philipp Grieß (Senior Producer\, Regisseur und Kameramann\, UFA D
 ocumentary Berlin) mit seinem Film "Expedition Arktis. Ein Jahr. Ein Schif
 f. Im Eis" zu Gast sein:
LAST-MODIFIED:20220601T172813Z
LOCATION:Studio-Kino\, Capitol Marburg und Hörsaalgebäude +1/0030
URL:https://www.uni-marburg.de/de/fb09/medienwissenschaft/aktuelles/termin
 e/doing-audio-visual-media-ix-zwischen-terra-x-und-high-end-tv-dokumentati
 onen-and-beyond
END:VEVENT
BEGIN:VTIMEZONE
TZID:Europe/Berlin
X-LIC-LOCATION:Europe/Berlin
BEGIN:DAYLIGHT
DTSTART:20220327T030000
TZNAME:CEST
TZOFFSETFROM:+0100
TZOFFSETTO:+0200
END:DAYLIGHT
END:VTIMEZONE
END:VCALENDAR
