BEGIN:VCALENDAR
VERSION:2.0
PRODID:-//Plone.org//NONSGML plone.app.event//EN
X-WR-TIMEZONE:Europe/Berlin
BEGIN:VEVENT
SUMMARY:DOING AUDIO-VISUAL MEDIA XI: Medien\, Ökologie & Nachhaltigkeit: 
 Gespräch
DTSTART;TZID=Europe/Berlin:20230616T101500
DTSTAMP:20260425T051105Z
UID:d3ab64ec587e491d888d4e401caccf38@www.uni-marburg.de
ATTENDEE;CN="Daniela Triml-Chifflard (Umweltanthropologin/Autorin, Marburg
 ) im Gespräch mit Tina Kaiser";ROLE=REQ-PARTICIPANT:Daniela Triml-Chiffla
 rd (Umweltanthropologin/Autorin, Marburg) im Gespräch mit Tina Kaiser
CREATED:20230504T072644Z
DESCRIPTION:https://www.uni-marburg.de/de/fb09/medienwissenschaft/aktuelle
 s/termine/doing-audio-visual-media-xi-medien-oekologie-nachhaltigkeit-gesp
 raech\nMit Daniela Triml-Chifflard
LAST-MODIFIED:20230504T072725Z
LOCATION:Institut für Medienwissenschaft\, Raum 01A03
URL:https://www.uni-marburg.de/de/fb09/medienwissenschaft/aktuelles/termin
 e/doing-audio-visual-media-xi-medien-oekologie-nachhaltigkeit-gespraech
END:VEVENT
BEGIN:VTIMEZONE
TZID:Europe/Berlin
X-LIC-LOCATION:Europe/Berlin
BEGIN:DAYLIGHT
DTSTART:20230326T030000
TZNAME:CEST
TZOFFSETFROM:+0100
TZOFFSETTO:+0200
END:DAYLIGHT
END:VTIMEZONE
END:VCALENDAR
