BEGIN:VCALENDAR
VERSION:2.0
PRODID:-//Plone.org//NONSGML plone.app.event//EN
X-WR-TIMEZONE:Europe/Berlin
BEGIN:VEVENT
SUMMARY:DOING AUDIO-VISUAL MEDIA XI: Medien\, Ökologie & Nachhaltigkeit: 
 Auftaktpanel
DTSTART;TZID=Europe/Berlin:20230517T181500
DTSTAMP:20260424T220703Z
UID:f5ed5293ed93488eb7715edb52553f4b@www.uni-marburg.de
ATTENDEE;CN="Lothar Frenz (Biologe/Autor/Kuratoriumsvorsitzender Dt. Natur
 filmstiftung, Hamburg), Philipp Grieß (Regie/Kamera/Senior Producer, Berl
 in) und Kathrin Succow (Stiftungsratsvorsitzende Michael Succow-Stiftung, 
 Leiterin Fachgruppe Stiftungsfundraising Dt. Fundraisingverband, Gesellsch
 afterin Dt. Naturfilmstiftung, Murnau) im Gespräch mit Tina Kaiser (Filmw
 issenschaftlerin/Autorin/Dramaturgin, Marburg/Berlin)";ROLE=REQ-PARTICIPAN
 T:Lothar Frenz (Biologe/Autor/Kuratoriumsvorsitzender Dt. Naturfilmstiftun
 g, Hamburg), Philipp Grieß (Regie/Kamera/Senior Producer, Berlin) und Kat
 hrin Succow (Stiftungsratsvorsitzende Michael Succow-Stiftung, Leiterin Fa
 chgruppe Stiftungsfundraising Dt. Fundraisingverband, Gesellschafterin Dt.
  Naturfilmstiftung, Murnau) im Gespräch mit Tina Kaiser (Filmwissenschaft
 lerin/Autorin/Dramaturgin, Marburg/Berlin)
CREATED:20230503T125238Z
DESCRIPTION:https://www.uni-marburg.de/de/fb09/medienwissenschaft/aktuelle
 s/termine/doing-audio-visual-media-xi-medien-oekologie-nachhaltigkeit\nMit
  Lothar Frenz\, Philipp Grieß und Kathrin Succow
LAST-MODIFIED:20230515T071958Z
LOCATION:ONLINE
URL:https://www.uni-marburg.de/de/fb09/medienwissenschaft/aktuelles/termin
 e/doing-audio-visual-media-xi-medien-oekologie-nachhaltigkeit
END:VEVENT
BEGIN:VTIMEZONE
TZID:Europe/Berlin
X-LIC-LOCATION:Europe/Berlin
BEGIN:DAYLIGHT
DTSTART:20230326T030000
TZNAME:CEST
TZOFFSETFROM:+0100
TZOFFSETTO:+0200
END:DAYLIGHT
END:VTIMEZONE
END:VCALENDAR
