BEGIN:VCALENDAR
VERSION:2.0
PRODID:-//Plone.org//NONSGML plone.app.event//EN
X-WR-TIMEZONE:Europe/Berlin
BEGIN:VEVENT
SUMMARY:DOING AUDIO-VISUAL MEDIA XII: Kino-Screening „Oskar Fischinger -
  Musik für die Augen“
DTSTART;TZID=Europe/Berlin:20240527T180000
DTEND;TZID=Europe/Berlin:20240527T200000
DTSTAMP:20260425T214850Z
UID:0a4a302b0ec94ffe880bedf6165232c6@www.uni-marburg.de
CREATED:20240430T150514Z
DESCRIPTION:https://www.uni-marburg.de/de/fb09/medienwissenschaft/aktuelle
 s/termine/doing-audio-visual-media-xii-kino-screening-oskar-fischinger-mus
 ik-fuer-die-augen\n
LAST-MODIFIED:20240513T084302Z
LOCATION:Kino Capitol (Studio) Marburg
URL:https://www.uni-marburg.de/de/fb09/medienwissenschaft/aktuelles/termin
 e/doing-audio-visual-media-xii-kino-screening-oskar-fischinger-musik-fuer-
 die-augen
END:VEVENT
BEGIN:VTIMEZONE
TZID:Europe/Berlin
X-LIC-LOCATION:Europe/Berlin
BEGIN:DAYLIGHT
DTSTART:20240331T030000
TZNAME:CEST
TZOFFSETFROM:+0100
TZOFFSETTO:+0200
END:DAYLIGHT
END:VTIMEZONE
END:VCALENDAR
