BEGIN:VCALENDAR
VERSION:2.0
PRODID:-//Plone.org//NONSGML plone.app.event//EN
X-WR-TIMEZONE:Europe/Berlin
BEGIN:VEVENT
SUMMARY:DOING AUDIO-VISUAL MEDIA XII: Regisseur Harald Pulch & Produzent R
 alf Ott  zu Gast
DTSTART;TZID=Europe/Berlin:20240528T101500
DTEND;TZID=Europe/Berlin:20240528T114500
DTSTAMP:20260425T054534Z
UID:884191ac146d4cc297825f3880739d06@www.uni-marburg.de
ATTENDEE;CN="Harald Pulch und Ralf Ott ";ROLE=REQ-PARTICIPANT:Harald Pulch
  und Ralf Ott 
CREATED:20240430T151041Z
DESCRIPTION:https://www.uni-marburg.de/de/fb09/medienwissenschaft/aktuelle
 s/termine/doing-audio-visual-media-xii-regisseur-harald-pulch-produzent-ra
 lf-ott-zu-gast\n
LAST-MODIFIED:20240430T151447Z
LOCATION:Biegenstr. 36\, Seminarraum 1. Stock
URL:https://www.uni-marburg.de/de/fb09/medienwissenschaft/aktuelles/termin
 e/doing-audio-visual-media-xii-regisseur-harald-pulch-produzent-ralf-ott-z
 u-gast
END:VEVENT
BEGIN:VTIMEZONE
TZID:Europe/Berlin
X-LIC-LOCATION:Europe/Berlin
BEGIN:DAYLIGHT
DTSTART:20240331T030000
TZNAME:CEST
TZOFFSETFROM:+0100
TZOFFSETTO:+0200
END:DAYLIGHT
END:VTIMEZONE
END:VCALENDAR
