BEGIN:VCALENDAR
VERSION:2.0
PRODID:-//Plone.org//NONSGML plone.app.event//EN
X-WR-TIMEZONE:Europe/Berlin
BEGIN:VEVENT
SUMMARY:DOING AUDIO-VISUAL MEDIA XII: SGREEN SHORTS - Studentische Filmexp
 erimente für Ökologie & Nachhaltigkeit
DTSTART;TZID=Europe/Berlin:20240608T160000
DTEND;TZID=Europe/Berlin:20240608T180000
DTSTAMP:20260426T001056Z
UID:2b68954f88e24782984fa0c54a163af5@www.uni-marburg.de
CREATED:20240430T151928Z
DESCRIPTION:https://www.uni-marburg.de/de/fb09/medienwissenschaft/aktuelle
 s/termine/doing-audio-visual-media-xii-sgreen-shorts-studentische-filmexpe
 rimente-fuer-oekologie-nachhaltigkeit\n
LAST-MODIFIED:20240430T152014Z
LOCATION:Capitol Kino (Studio) Marburg
URL:https://www.uni-marburg.de/de/fb09/medienwissenschaft/aktuelles/termin
 e/doing-audio-visual-media-xii-sgreen-shorts-studentische-filmexperimente-
 fuer-oekologie-nachhaltigkeit
END:VEVENT
BEGIN:VTIMEZONE
TZID:Europe/Berlin
X-LIC-LOCATION:Europe/Berlin
BEGIN:DAYLIGHT
DTSTART:20240331T030000
TZNAME:CEST
TZOFFSETFROM:+0100
TZOFFSETTO:+0200
END:DAYLIGHT
END:VTIMEZONE
END:VCALENDAR
