BEGIN:VCALENDAR
VERSION:2.0
PRODID:-//Plone.org//NONSGML plone.app.event//EN
X-WR-TIMEZONE:Europe/Berlin
BEGIN:VEVENT
SUMMARY:DOING AUDIO-VISUAL MEDIA XII: "Textströme und Quellcodes"
DTSTART;TZID=Europe/Berlin:20240523T161500
DTEND;TZID=Europe/Berlin:20240523T174500
DTSTAMP:20260420T093917Z
UID:de6a173149a64f24ad560bcc67c60a56@www.uni-marburg.de
ATTENDEE;CN="Jasmin Meerhoff";ROLE=REQ-PARTICIPANT:Jasmin Meerhoff
CREATED:20240430T145812Z
DESCRIPTION:https://www.uni-marburg.de/de/fb09/medienwissenschaft/aktuelle
 s/termine/doing-audio-visual-media-xii-textstroeme-und-quellcodes\n
LAST-MODIFIED:20240430T151315Z
LOCATION:Seminargebäude B/07\, Pilgrimstein 12\, Raum 301
URL:https://www.uni-marburg.de/de/fb09/medienwissenschaft/aktuelles/termin
 e/doing-audio-visual-media-xii-textstroeme-und-quellcodes
END:VEVENT
BEGIN:VTIMEZONE
TZID:Europe/Berlin
X-LIC-LOCATION:Europe/Berlin
BEGIN:DAYLIGHT
DTSTART:20240331T030000
TZNAME:CEST
TZOFFSETFROM:+0100
TZOFFSETTO:+0200
END:DAYLIGHT
END:VTIMEZONE
END:VCALENDAR
