BEGIN:VCALENDAR
VERSION:2.0
PRODID:-//Plone.org//NONSGML plone.app.event//EN
X-WR-TIMEZONE:Europe/Berlin
BEGIN:VEVENT
SUMMARY:DOING AUDIO-VISUAL MEDIA XIII: BLUE & GREEN MEDIA
DTSTART;TZID=Europe/Berlin:20250626T161500
DTEND;TZID=Europe/Berlin:20250626T174500
DTSTAMP:20260424T044430Z
UID:5cfe03cb651e4fec929a4ab9100c3785@www.uni-marburg.de
ATTENDEE;CN="Ron Kellermann";ROLE=REQ-PARTICIPANT:Ron Kellermann
CREATED:20250509T085308Z
DESCRIPTION:https://www.uni-marburg.de/de/fb09/medienwissenschaft/aktuelle
 s/termine/doing-audio-visual-media-xiii-blue-green-media-1\n
LAST-MODIFIED:20250509T085320Z
LOCATION:Wilhelm-Röpke-Str. 6A\, Turm A\, Raum 05A10 (Niederlandistik-Bib
 liothek)
URL:https://www.uni-marburg.de/de/fb09/medienwissenschaft/aktuelles/termin
 e/doing-audio-visual-media-xiii-blue-green-media-1
END:VEVENT
BEGIN:VTIMEZONE
TZID:Europe/Berlin
X-LIC-LOCATION:Europe/Berlin
BEGIN:DAYLIGHT
DTSTART:20250330T030000
TZNAME:CEST
TZOFFSETFROM:+0100
TZOFFSETTO:+0200
END:DAYLIGHT
END:VTIMEZONE
END:VCALENDAR
