BEGIN:VCALENDAR
VERSION:2.0
PRODID:-//Plone.org//NONSGML plone.app.event//EN
X-WR-TIMEZONE:Europe/Berlin
BEGIN:VEVENT
SUMMARY:DOING AUDIO-VISUAL MEDIA XIII: BLUE & GREEN MEDIA
DTSTART;TZID=Europe/Berlin:20250522T161500
DTEND;TZID=Europe/Berlin:20250522T174500
DTSTAMP:20260421T123515Z
UID:8367b6f5b8e844f98acb78b535d8adae@www.uni-marburg.de
ATTENDEE;CN="Dr. Sophie Einwächter";ROLE=REQ-PARTICIPANT:Dr. Sophie Einw
 ächter
CREATED:20250506T154256Z
DESCRIPTION:https://www.uni-marburg.de/de/fb09/medienwissenschaft/aktuelle
 s/termine/doing-audio-visual-media-xiii-blue-green-media\n
LAST-MODIFIED:20250506T154427Z
LOCATION:Wilhelm-Röpke-Str. 6A\, Turm A\, Raum 05A10 (Niederlandistik-Bib
 liothek)
URL:https://www.uni-marburg.de/de/fb09/medienwissenschaft/aktuelles/termin
 e/doing-audio-visual-media-xiii-blue-green-media
END:VEVENT
BEGIN:VTIMEZONE
TZID:Europe/Berlin
X-LIC-LOCATION:Europe/Berlin
BEGIN:DAYLIGHT
DTSTART:20250330T030000
TZNAME:CEST
TZOFFSETFROM:+0100
TZOFFSETTO:+0200
END:DAYLIGHT
END:VTIMEZONE
END:VCALENDAR
