BEGIN:VCALENDAR
VERSION:2.0
PRODID:-//Plone.org//NONSGML plone.app.event//EN
X-WR-TIMEZONE:Europe/Berlin
BEGIN:VEVENT
SUMMARY:DOING AUDIO-VISUAL MEDIA XIV: Filmscreening und Gespräch mit Phil
  Kuehlthau: "PhilFak Revisited"
DTSTART;TZID=Europe/Berlin:20251106T181500
DTEND;TZID=Europe/Berlin:20251106T194500
DTSTAMP:20260425T001542Z
UID:35a688e4eca9489d8e00ec7e3d1c6fa3@www.uni-marburg.de
ATTENDEE;CN="Phil Kuehlthau, Filmemacher und Fotograf";ROLE=REQ-PARTICIPAN
 T:Phil Kuehlthau, Filmemacher und Fotograf
CATEGORIES:()
CREATED:20251008T084934Z
DESCRIPTION:https://www.uni-marburg.de/de/fb09/medienwissenschaft/aktuelle
 s/termine/doing-audio-visual-media-xiv-filmscreening-und-gespraech-mit-phi
 l-kuehlthau-philfak-revisited\n
LAST-MODIFIED:20251008T091055Z
LOCATION:Wilhelm-Röpke-Str. 6\, Hörsaal 01H01
URL:https://www.uni-marburg.de/de/fb09/medienwissenschaft/aktuelles/termin
 e/doing-audio-visual-media-xiv-filmscreening-und-gespraech-mit-phil-kuehlt
 hau-philfak-revisited
END:VEVENT
BEGIN:VTIMEZONE
TZID:Europe/Berlin
X-LIC-LOCATION:Europe/Berlin
BEGIN:STANDARD
DTSTART:20251026T020000
TZNAME:CET
TZOFFSETFROM:+0200
TZOFFSETTO:+0100
END:STANDARD
END:VTIMEZONE
END:VCALENDAR
