BEGIN:VCALENDAR
VERSION:2.0
PRODID:-//Plone.org//NONSGML plone.app.event//EN
X-WR-TIMEZONE:Europe/Berlin
BEGIN:VEVENT
SUMMARY:DOING AUDIO-VISUAL MEDIA XV: Film & Forschungspraxis
DTSTART;TZID=Europe/Berlin:20251212T101500
DTEND;TZID=Europe/Berlin:20251212T114500
DTSTAMP:20260424T190046Z
UID:03d950c8b0ea4c8c9a0ad68b8be48fcc@www.uni-marburg.de
ATTENDEE;CN="Moritz Boll (Regisseur und Produzent, Kiel)";ROLE=REQ-PARTICI
 PANT:Moritz Boll (Regisseur und Produzent, Kiel)
CATEGORIES:()
CREATED:20251111T165108Z
DESCRIPTION:https://www.uni-marburg.de/de/fb09/medienwissenschaft/aktuelle
 s/termine/doing-audio-visual-media-xv-film-forschungspraxis\n
LAST-MODIFIED:20251111T165311Z
LOCATION:01A03\, Wilhelm-Röpke-Str. 6A
URL:https://www.uni-marburg.de/de/fb09/medienwissenschaft/aktuelles/termin
 e/doing-audio-visual-media-xv-film-forschungspraxis
END:VEVENT
BEGIN:VTIMEZONE
TZID:Europe/Berlin
X-LIC-LOCATION:Europe/Berlin
BEGIN:STANDARD
DTSTART:20251026T020000
TZNAME:CET
TZOFFSETFROM:+0200
TZOFFSETTO:+0100
END:STANDARD
END:VTIMEZONE
END:VCALENDAR
