BEGIN:VCALENDAR
VERSION:2.0
PRODID:-//Plone.org//NONSGML plone.app.event//EN
X-WR-TIMEZONE:Europe/Berlin
BEGIN:VEVENT
SUMMARY:Doing Audiovisual Media IV: Arbeitsfeld Wissenschaftsjournalismus
DTSTART;TZID=Europe/Berlin:20170721T120000
DTEND;TZID=Europe/Berlin:20170721T190000
DTSTAMP:20260424T200815Z
UID:0809f2024d1d4a0c812a7f5e8f23d469@www.uni-marburg.de
ATTENDEE;CN="Dr. Astrid Herbold";ROLE=REQ-PARTICIPANT:Dr. Astrid Herbold
CREATED:20170718T171043Z
DESCRIPTION:https://www.uni-marburg.de/de/fb09/medienwissenschaft/aktuelle
 s/termine/doing-audiovisual-media-iv-arbeitsfeld-wissenschaftsjournalismus
 \nWorkshop mit Dr. Astrid Herbold zum Thema "Wissen(schaft) kommunizieren 
 im digitalen Zeitalter"
LAST-MODIFIED:20181023T194955Z
LOCATION:t.b.a. (wird nach Anmeldung bekannt gegeben)
URL:https://www.uni-marburg.de/de/fb09/medienwissenschaft/aktuelles/termin
 e/doing-audiovisual-media-iv-arbeitsfeld-wissenschaftsjournalismus
END:VEVENT
BEGIN:VTIMEZONE
TZID:Europe/Berlin
X-LIC-LOCATION:Europe/Berlin
BEGIN:DAYLIGHT
DTSTART:20170326T030000
TZNAME:CEST
TZOFFSETFROM:+0100
TZOFFSETTO:+0200
END:DAYLIGHT
END:VTIMEZONE
END:VCALENDAR
