BEGIN:VCALENDAR
VERSION:2.0
PRODID:-//Plone.org//NONSGML plone.app.event//EN
X-WR-TIMEZONE:Europe/Berlin
BEGIN:VEVENT
SUMMARY:Elemente-Kino und Ecoaesthetics: DRIFT
DTSTART;TZID=Europe/Berlin:20210429T170000
DTSTAMP:20260420T214116Z
UID:7e481e22e22a406ab5b18c4502b4fbe2@www.uni-marburg.de
CREATED:20210405T155521Z
DESCRIPTION:https://www.uni-marburg.de/de/fb09/medienwissenschaft/aktuelle
 s/termine/elemente-kino-und-ecoaesthetics-drift\nFilm & Ökologie: Digital
 e Veranstaltungsreihe im Sommersemester 2021
LAST-MODIFIED:20210405T155636Z
LOCATION:Online
URL:https://www.uni-marburg.de/de/fb09/medienwissenschaft/aktuelles/termin
 e/elemente-kino-und-ecoaesthetics-drift
END:VEVENT
BEGIN:VTIMEZONE
TZID:Europe/Berlin
X-LIC-LOCATION:Europe/Berlin
BEGIN:DAYLIGHT
DTSTART:20210328T030000
TZNAME:CEST
TZOFFSETFROM:+0100
TZOFFSETTO:+0200
END:DAYLIGHT
END:VTIMEZONE
END:VCALENDAR
