BEGIN:VCALENDAR
VERSION:2.0
PRODID:-//Plone.org//NONSGML plone.app.event//EN
X-WR-TIMEZONE:Europe/Berlin
BEGIN:VEVENT
SUMMARY:Filmriss Marburg - Filmgespräch mit Dr. Alena Strohmaier
DTSTART;TZID=Europe/Berlin:20260121T180000
DTEND;TZID=Europe/Berlin:20260121T210000
DTSTAMP:20260426T051933Z
UID:843db4c226014ed2b88fac89aec9d48a@www.uni-marburg.de
CATEGORIES:()
CREATED:20260115T121255Z
DESCRIPTION:https://www.uni-marburg.de/de/fb09/medienwissenschaft/aktuelle
 s/termine/filmriss-marburg-filmgespraech-mit-dr-alena-strohmaier\n
LAST-MODIFIED:20260115T121817Z
LOCATION:Hörsaal 204\, Universitätsstraße 4
URL:https://www.uni-marburg.de/de/fb09/medienwissenschaft/aktuelles/termin
 e/filmriss-marburg-filmgespraech-mit-dr-alena-strohmaier
END:VEVENT
BEGIN:VTIMEZONE
TZID:Europe/Berlin
X-LIC-LOCATION:Europe/Berlin
BEGIN:STANDARD
DTSTART:20251026T020000
TZNAME:CET
TZOFFSETFROM:+0200
TZOFFSETTO:+0100
END:STANDARD
END:VTIMEZONE
END:VCALENDAR
