BEGIN:VCALENDAR
VERSION:2.0
PRODID:-//Plone.org//NONSGML plone.app.event//EN
X-WR-TIMEZONE:Europe/Berlin
BEGIN:VEVENT
SUMMARY:Filmscreening im Rahmen des Semesterthemas "BLICK"
DTSTART;TZID=Europe/Berlin:20251119T164500
DTEND;TZID=Europe/Berlin:20251119T184500
DTSTAMP:20260424T045648Z
UID:57c81c70197c4ed1997b6749e998bdfb@www.uni-marburg.de
CATEGORIES:()
CREATED:20251103T125314Z
DESCRIPTION:https://www.uni-marburg.de/de/fb09/medienwissenschaft/aktuelle
 s/termine/filmscreening-im-rahmen-des-semesterthemas-blick\n
LAST-MODIFIED:20251103T125430Z
LOCATION:Capitol Filmkunsttheater\, Biegenstraße 8
URL:https://www.uni-marburg.de/de/fb09/medienwissenschaft/aktuelles/termin
 e/filmscreening-im-rahmen-des-semesterthemas-blick
END:VEVENT
BEGIN:VTIMEZONE
TZID:Europe/Berlin
X-LIC-LOCATION:Europe/Berlin
BEGIN:STANDARD
DTSTART:20251026T020000
TZNAME:CET
TZOFFSETFROM:+0200
TZOFFSETTO:+0100
END:STANDARD
END:VTIMEZONE
END:VCALENDAR
