BEGIN:VCALENDAR
VERSION:2.0
PRODID:-//Plone.org//NONSGML plone.app.event//EN
X-WR-TIMEZONE:Europe/Berlin
BEGIN:VEVENT
SUMMARY:Führung durch die Requisitenschau im Cineplex
DTSTART;TZID=Europe/Berlin:20251117T170000
DTEND;TZID=Europe/Berlin:20251117T180000
DTSTAMP:20260421T234332Z
UID:add4b4f27ba04ac6a59fc7e58ddc41f2@www.uni-marburg.de
CREATED:20251107T075051Z
DESCRIPTION:https://www.uni-marburg.de/de/fb09/medienwissenschaft/aktuelle
 s/termine/fuehrung-durch-die-requisitenschau-im-cineplex\n
LAST-MODIFIED:20251107T075138Z
LOCATION:Cineplex Marburg
URL:https://www.uni-marburg.de/de/fb09/medienwissenschaft/aktuelles/termin
 e/fuehrung-durch-die-requisitenschau-im-cineplex
END:VEVENT
BEGIN:VTIMEZONE
TZID:Europe/Berlin
X-LIC-LOCATION:Europe/Berlin
BEGIN:STANDARD
DTSTART:20251026T020000
TZNAME:CET
TZOFFSETFROM:+0200
TZOFFSETTO:+0100
END:STANDARD
END:VTIMEZONE
END:VCALENDAR
