BEGIN:VCALENDAR
VERSION:2.0
PRODID:-//Plone.org//NONSGML plone.app.event//EN
X-WR-TIMEZONE:Europe/Berlin
BEGIN:VEVENT
SUMMARY:Gastvortrag: Katrin Weiser
DTSTART;TZID=Europe/Berlin:20211027T161500
DTSTAMP:20260420T193708Z
UID:637eb6ac0ebe4c268e1aadef66bbc4b3@www.uni-marburg.de
ATTENDEE;CN="Katrin Weiser";ROLE=REQ-PARTICIPANT:Katrin Weiser
CREATED:20210528T133318Z
DESCRIPTION:https://www.uni-marburg.de/de/fb09/medienwissenschaft/aktuelle
 s/termine/gastvortrag-katrin-weiser\nDoing Audio-Visual Media: Kultur – 
 Wissen – Medien – Vermittlung
LAST-MODIFIED:20210528T133338Z
LOCATION:Online
URL:https://www.uni-marburg.de/de/fb09/medienwissenschaft/aktuelles/termin
 e/gastvortrag-katrin-weiser
END:VEVENT
BEGIN:VTIMEZONE
TZID:Europe/Berlin
X-LIC-LOCATION:Europe/Berlin
BEGIN:DAYLIGHT
DTSTART:20210328T030000
TZNAME:CEST
TZOFFSETFROM:+0100
TZOFFSETTO:+0200
END:DAYLIGHT
END:VTIMEZONE
END:VCALENDAR
