BEGIN:VCALENDAR
VERSION:2.0
PRODID:-//Plone.org//NONSGML plone.app.event//EN
X-WR-TIMEZONE:Europe/Berlin
BEGIN:VEVENT
SUMMARY:Gastvortrag Nicole Braida: "Der verzweigte Pfad: interaktives Erz
 ählen über Flucht und Migration"
DTSTART;TZID=Europe/Berlin:20180129T131500
DTEND;TZID=Europe/Berlin:20180129T144500
DTSTAMP:20260425T002727Z
UID:c9cb450f4054413d83dd60029ca5c2b7@www.uni-marburg.de
ATTENDEE;CN="Nicole Braida";ROLE=REQ-PARTICIPANT:Nicole Braida
CREATED:20180118T120408Z
DESCRIPTION:https://www.uni-marburg.de/de/fb09/medienwissenschaft/aktuelle
 s/termine/gastvortrag-nicole-braida-der-verzweigte-pfad-interaktives-erzae
 hlen-ueber-flucht-und-migration\n
LAST-MODIFIED:20180118T120500Z
LOCATION:Wilhelm-Röpke-Str. 6A\, Raum 01A04
URL:https://www.uni-marburg.de/de/fb09/medienwissenschaft/aktuelles/termin
 e/gastvortrag-nicole-braida-der-verzweigte-pfad-interaktives-erzaehlen-ueb
 er-flucht-und-migration
END:VEVENT
BEGIN:VTIMEZONE
TZID:Europe/Berlin
X-LIC-LOCATION:Europe/Berlin
BEGIN:STANDARD
DTSTART:20171029T020000
TZNAME:CET
TZOFFSETFROM:+0200
TZOFFSETTO:+0100
END:STANDARD
END:VTIMEZONE
END:VCALENDAR
