BEGIN:VCALENDAR
VERSION:2.0
PRODID:-//Plone.org//NONSGML plone.app.event//EN
X-WR-TIMEZONE:Europe/Berlin
BEGIN:VEVENT
SUMMARY:Gastvortrag Peter Y. Paik: "Rewriting the Apocalypse in Contempora
 ry Culture: Representing Catastrophe and Its Aftermath"
DTSTART;TZID=Europe/Berlin:20171211T101500
DTEND;TZID=Europe/Berlin:20171211T114500
DTSTAMP:20260425T214857Z
UID:116d9239a078451e80064877b3279a5b@www.uni-marburg.de
ATTENDEE;CN="Peter Y. Paik";ROLE=REQ-PARTICIPANT:Peter Y. Paik
CREATED:20171201T220516Z
DESCRIPTION:https://www.uni-marburg.de/de/fb09/medienwissenschaft/aktuelle
 s/termine/gastvortrag-peter-y-paik-rewriting-the-apocalypse-in-contemporar
 y-culture-representing-catastrophe-and-its-aftermath\n
LAST-MODIFIED:20171201T222024Z
LOCATION:Hörsaalgebäude\, HS +1 00/30
URL:https://www.uni-marburg.de/de/fb09/medienwissenschaft/aktuelles/termin
 e/gastvortrag-peter-y-paik-rewriting-the-apocalypse-in-contemporary-cultur
 e-representing-catastrophe-and-its-aftermath
END:VEVENT
BEGIN:VTIMEZONE
TZID:Europe/Berlin
X-LIC-LOCATION:Europe/Berlin
BEGIN:STANDARD
DTSTART:20171029T020000
TZNAME:CET
TZOFFSETFROM:+0200
TZOFFSETTO:+0100
END:STANDARD
END:VTIMEZONE
END:VCALENDAR
