BEGIN:VCALENDAR
VERSION:2.0
PRODID:-//Plone.org//NONSGML plone.app.event//EN
X-WR-TIMEZONE:Europe/Berlin
BEGIN:VEVENT
SUMMARY:Gastvortrag von Niels-Oliver Walkowski
DTSTART;TZID=Europe/Berlin:20171204T141500
DTEND;TZID=Europe/Berlin:20171204T154500
DTSTAMP:20260423T131051Z
UID:9b02891d02004354ab1586ff0fba51e6@www.uni-marburg.de
ATTENDEE;CN="Niels-Oliver Walkowski";ROLE=REQ-PARTICIPANT:Niels-Oliver Wal
 kowski
CREATED:20171109T092138Z
DESCRIPTION:https://www.uni-marburg.de/de/fb09/medienwissenschaft/aktuelle
 s/termine/gastvortrag-von-niels-oliver-walkowski\nDigitale Methoden oder t
 echnische Hilfsmittel? Perspektiven der Filmwissenschaften innerhalb der D
 igital Humanities
LAST-MODIFIED:20171109T092358Z
LOCATION:Wilhelm-Röpke-Str. 6A\, Raum 01A03
URL:https://www.uni-marburg.de/de/fb09/medienwissenschaft/aktuelles/termin
 e/gastvortrag-von-niels-oliver-walkowski
END:VEVENT
BEGIN:VTIMEZONE
TZID:Europe/Berlin
X-LIC-LOCATION:Europe/Berlin
BEGIN:STANDARD
DTSTART:20171029T020000
TZNAME:CET
TZOFFSETFROM:+0200
TZOFFSETTO:+0100
END:STANDARD
END:VTIMEZONE
END:VCALENDAR
