BEGIN:VCALENDAR
VERSION:2.0
PRODID:-//Plone.org//NONSGML plone.app.event//EN
X-WR-TIMEZONE:Europe/Berlin
BEGIN:VEVENT
SUMMARY:Gastvortrag von Prof. Dr. Charles Acland (Concordia\, Montreal): "
 Always Already Big Data"
DTSTART;TZID=Europe/Berlin:20240430T160000
DTEND;TZID=Europe/Berlin:20240430T180000
DTSTAMP:20260425T002819Z
UID:e3966d9b8b8243039a5dd5d28310c025@www.uni-marburg.de
ATTENDEE;CN="Prof. Dr. Charles Acland";ROLE=REQ-PARTICIPANT:Prof. Dr. Char
 les Acland
CREATED:20240417T110113Z
DESCRIPTION:https://www.uni-marburg.de/de/fb09/medienwissenschaft/aktuelle
 s/termine/gastvortrag-von-prof-dr-charles-acland-concordia-montreal-always
 -already-big-data\n
LAST-MODIFIED:20240417T110227Z
LOCATION:Wilhelm-Röpke-Str. 6A\, Turm A\, Raum 01A02
URL:https://www.uni-marburg.de/de/fb09/medienwissenschaft/aktuelles/termin
 e/gastvortrag-von-prof-dr-charles-acland-concordia-montreal-always-already
 -big-data
END:VEVENT
BEGIN:VTIMEZONE
TZID:Europe/Berlin
X-LIC-LOCATION:Europe/Berlin
BEGIN:DAYLIGHT
DTSTART:20240331T030000
TZNAME:CEST
TZOFFSETFROM:+0100
TZOFFSETTO:+0200
END:DAYLIGHT
END:VTIMEZONE
END:VCALENDAR
