BEGIN:VCALENDAR
VERSION:2.0
PRODID:-//Plone.org//NONSGML plone.app.event//EN
X-WR-TIMEZONE:Europe/Berlin
BEGIN:VEVENT
SUMMARY:Gespräch mit der Buchpreisbloggerin @tausendmund
DTSTART;TZID=Europe/Berlin:20251028T121500
DTEND;TZID=Europe/Berlin:20251028T134500
DTSTAMP:20260422T004452Z
UID:48b3da8559ac44d4adc6f87f67d4987c@www.uni-marburg.de
CREATED:20251023T173951Z
DESCRIPTION:https://www.uni-marburg.de/de/fb09/medienwissenschaft/aktuelle
 s/termine/gespraech-mit-der-buchpreisbloggerin-tausendmund\n
LAST-MODIFIED:20251023T174025Z
LOCATION:MediaHub\, Biegenstraße 36 (1. Stock)
URL:https://www.uni-marburg.de/de/fb09/medienwissenschaft/aktuelles/termin
 e/gespraech-mit-der-buchpreisbloggerin-tausendmund
END:VEVENT
BEGIN:VTIMEZONE
TZID:Europe/Berlin
X-LIC-LOCATION:Europe/Berlin
BEGIN:STANDARD
DTSTART:20251026T020000
TZNAME:CET
TZOFFSETFROM:+0200
TZOFFSETTO:+0100
END:STANDARD
END:VTIMEZONE
END:VCALENDAR
