BEGIN:VCALENDAR
VERSION:2.0
PRODID:-//Plone.org//NONSGML plone.app.event//EN
X-WR-TIMEZONE:Europe/Berlin
BEGIN:VEVENT
SUMMARY:Gespräch mit der Podcasterin Josi Wismar
DTSTART;TZID=Europe/Berlin:20251216T121500
DTEND;TZID=Europe/Berlin:20251216T134500
DTSTAMP:20260421T192231Z
UID:9bcb02bd6ab64473b50ade096a399512@www.uni-marburg.de
CREATED:20251103T131238Z
DESCRIPTION:https://www.uni-marburg.de/de/fb09/medienwissenschaft/aktuelle
 s/termine/gespraech-mit-der-podcasterin-josi-wismar\n
LAST-MODIFIED:20251103T131328Z
LOCATION:Biegenstraße 36 (1. Stock)
URL:https://www.uni-marburg.de/de/fb09/medienwissenschaft/aktuelles/termin
 e/gespraech-mit-der-podcasterin-josi-wismar
END:VEVENT
BEGIN:VTIMEZONE
TZID:Europe/Berlin
X-LIC-LOCATION:Europe/Berlin
BEGIN:STANDARD
DTSTART:20251026T020000
TZNAME:CET
TZOFFSETFROM:+0200
TZOFFSETTO:+0100
END:STANDARD
END:VTIMEZONE
END:VCALENDAR
