BEGIN:VCALENDAR
VERSION:2.0
PRODID:-//Plone.org//NONSGML plone.app.event//EN
X-WR-TIMEZONE:Europe/Berlin
BEGIN:VEVENT
SUMMARY:Workshop: FUTURE NARRATIVES FOR PLANET EARTH – RECHERCHE LAB
DTSTART;TZID=Europe/Berlin:20240621T170000
DTEND;TZID=Europe/Berlin:20240621T200000
DTSTAMP:20260424T142312Z
UID:3115650c8d8b41ed8a12de4213a65f03@www.uni-marburg.de
CREATED:20240514T140545Z
DESCRIPTION:https://www.uni-marburg.de/de/fb09/medienwissenschaft/aktuelle
 s/termine/gespraech-und-austausch-future-narratives-for-planet-earth-reche
 rche-lab\n
LAST-MODIFIED:20240515T092822Z
LOCATION:Theater am Schwanhof
URL:https://www.uni-marburg.de/de/fb09/medienwissenschaft/aktuelles/termin
 e/gespraech-und-austausch-future-narratives-for-planet-earth-recherche-lab
END:VEVENT
BEGIN:VTIMEZONE
TZID:Europe/Berlin
X-LIC-LOCATION:Europe/Berlin
BEGIN:DAYLIGHT
DTSTART:20240331T030000
TZNAME:CEST
TZOFFSETFROM:+0100
TZOFFSETTO:+0200
END:DAYLIGHT
END:VTIMEZONE
END:VCALENDAR
