BEGIN:VCALENDAR
VERSION:2.0
PRODID:-//Plone.org//NONSGML plone.app.event//EN
X-WR-TIMEZONE:Europe/Berlin
BEGIN:VEVENT
SUMMARY:Infoveranstaltung zu Masterstudiengängen in und mit Medienwissens
 chaft
DTSTART;TZID=Europe/Berlin:20250702T141500
DTEND;TZID=Europe/Berlin:20250702T154500
DTSTAMP:20260425T002559Z
UID:92dfefdee6c7478ca307ae16a5b669b5@www.uni-marburg.de
ATTENDEE;CN="Studiengangsverantwortliche und Lehrende";ROLE=REQ-PARTICIPAN
 T:Studiengangsverantwortliche und Lehrende
CREATED:20250618T161120Z
DESCRIPTION:https://www.uni-marburg.de/de/fb09/medienwissenschaft/aktuelle
 s/termine/infoveranstaltung-zu-masterstudiengaengen-in-und-mit-medienwisse
 nschaft\n
LAST-MODIFIED:20250618T161736Z
LOCATION:Wilhelm-Röpke-Str. 6A\, Turm A\, Raum 01A04
URL:https://www.uni-marburg.de/de/fb09/medienwissenschaft/aktuelles/termin
 e/infoveranstaltung-zu-masterstudiengaengen-in-und-mit-medienwissenschaft
END:VEVENT
BEGIN:VTIMEZONE
TZID:Europe/Berlin
X-LIC-LOCATION:Europe/Berlin
BEGIN:DAYLIGHT
DTSTART:20250330T030000
TZNAME:CEST
TZOFFSETFROM:+0100
TZOFFSETTO:+0200
END:DAYLIGHT
END:VTIMEZONE
END:VCALENDAR
