BEGIN:VCALENDAR
VERSION:2.0
PRODID:-//Plone.org//NONSGML plone.app.event//EN
X-WR-TIMEZONE:Europe/Berlin
BEGIN:VEVENT
SUMMARY:International Conference: Doing Digital Film History
DTSTART;VALUE=DATE:20221117
DTEND;VALUE=DATE:20221120
DTSTAMP:20260423T181846Z
UID:9e7dd31450a84d5786843a82b74f968a@www.uni-marburg.de
CREATED:20220930T173057Z
DESCRIPTION:https://www.uni-marburg.de/de/fb09/medienwissenschaft/aktuelle
 s/termine/international-conference-doing-digital-film-history\nAt the clos
 ing conference „Doing Digital Film History“\, the international DFG Re
 search Network “New Directions in Film Historiography” (2019-2022) wil
 l present its findings and discuss them with the community.
LAST-MODIFIED:20221008T131407Z
LOCATION:Deutscher Sprachatlas\, Philipps-Universität Marburg
URL:https://www.uni-marburg.de/de/fb09/medienwissenschaft/aktuelles/termin
 e/international-conference-doing-digital-film-history
END:VEVENT
END:VCALENDAR
