BEGIN:VCALENDAR
VERSION:2.0
PRODID:-//Plone.org//NONSGML plone.app.event//EN
X-WR-TIMEZONE:Europe/Berlin
BEGIN:VEVENT
SUMMARY:Keynote Lecture: Prof. Dr. Michael Butter: „Visualizing Conspira
 cy“
DTSTART;TZID=Europe/Berlin:20250625T183000
DTEND;TZID=Europe/Berlin:20250625T193000
DTSTAMP:20260420T090937Z
UID:e78f881f2ce5491e91b37e08e188c2ad@www.uni-marburg.de
CREATED:20250512T103931Z
DESCRIPTION:https://www.uni-marburg.de/de/fb09/medienwissenschaft/aktuelle
 s/termine/keynote-lecture-prof-dr-michael-butter-visualizing-conspiracy\n
LAST-MODIFIED:20250512T103940Z
LOCATION:Rathaus\, Historischer Rathaussaal\, Markt 1
URL:https://www.uni-marburg.de/de/fb09/medienwissenschaft/aktuelles/termin
 e/keynote-lecture-prof-dr-michael-butter-visualizing-conspiracy
END:VEVENT
BEGIN:VTIMEZONE
TZID:Europe/Berlin
X-LIC-LOCATION:Europe/Berlin
BEGIN:DAYLIGHT
DTSTART:20250330T030000
TZNAME:CEST
TZOFFSETFROM:+0100
TZOFFSETTO:+0200
END:DAYLIGHT
END:VTIMEZONE
END:VCALENDAR
