BEGIN:VCALENDAR
VERSION:2.0
PRODID:-//Plone.org//NONSGML plone.app.event//EN
X-WR-TIMEZONE:Europe/Berlin
BEGIN:VEVENT
SUMMARY:Marburger Kamerapreis 2025: "Die Wächterinnen" im Vorprogramm
DTSTART;TZID=Europe/Berlin:20250423T200000
DTEND;TZID=Europe/Berlin:20250423T230000
DTSTAMP:20260424T063540Z
UID:774440e7ebfd4637a5129def1f0c67d3@www.uni-marburg.de
CREATED:20250331T214825Z
DESCRIPTION:https://www.uni-marburg.de/de/fb09/medienwissenschaft/aktuelle
 s/termine/marburger-kamerapreis-2025-die-waechterinnen-im-vorprogramm\n
LAST-MODIFIED:20250331T214932Z
LOCATION:Capitol Kino Marburg
URL:https://www.uni-marburg.de/de/fb09/medienwissenschaft/aktuelles/termin
 e/marburger-kamerapreis-2025-die-waechterinnen-im-vorprogramm
END:VEVENT
BEGIN:VTIMEZONE
TZID:Europe/Berlin
X-LIC-LOCATION:Europe/Berlin
BEGIN:DAYLIGHT
DTSTART:20250330T030000
TZNAME:CEST
TZOFFSETFROM:+0100
TZOFFSETTO:+0200
END:DAYLIGHT
END:VTIMEZONE
END:VCALENDAR
