BEGIN:VCALENDAR
VERSION:2.0
PRODID:-//Plone.org//NONSGML plone.app.event//EN
X-WR-TIMEZONE:Europe/Berlin
BEGIN:VEVENT
SUMMARY:Marburger Kamerapreis 2025: "Les damnés ne pleurent pas" im Vorpr
 ogramm
DTSTART;TZID=Europe/Berlin:20250416T200000
DTEND;TZID=Europe/Berlin:20250416T230000
DTSTAMP:20260424T113307Z
UID:0bd3c84a4e8f4677a420d99f3b57cec3@www.uni-marburg.de
CREATED:20250331T214238Z
DESCRIPTION:https://www.uni-marburg.de/de/fb09/medienwissenschaft/aktuelle
 s/termine/marburger-kamerapreis-2025-les-damnes-ne-pleurent-pas-im-vorprog
 ramm\n
LAST-MODIFIED:20250331T215255Z
LOCATION:Capitol Kino Marburg
URL:https://www.uni-marburg.de/de/fb09/medienwissenschaft/aktuelles/termin
 e/marburger-kamerapreis-2025-les-damnes-ne-pleurent-pas-im-vorprogramm
END:VEVENT
BEGIN:VTIMEZONE
TZID:Europe/Berlin
X-LIC-LOCATION:Europe/Berlin
BEGIN:DAYLIGHT
DTSTART:20250330T030000
TZNAME:CEST
TZOFFSETFROM:+0100
TZOFFSETTO:+0200
END:DAYLIGHT
END:VTIMEZONE
END:VCALENDAR
