BEGIN:VCALENDAR
VERSION:2.0
PRODID:-//Plone.org//NONSGML plone.app.event//EN
X-WR-TIMEZONE:Europe/Berlin
BEGIN:VEVENT
SUMMARY:Online Brunch Lecture: Daten bereinigen und anreichern mit OpenRef
 ine
DTSTART;TZID=Europe/Berlin:20231107T110000
DTEND;TZID=Europe/Berlin:20231107T114500
DTSTAMP:20260424T053519Z
UID:bf45e15fa0c84941a2a855fc8c41d5a9@www.uni-marburg.de
CREATED:20231012T115344Z
DESCRIPTION:https://www.uni-marburg.de/de/fb09/medienwissenschaft/aktuelle
 s/termine/online-brunch-lecture-daten-bereinigen-und-anreichern-mit-openre
 fine\nEine Veranstaltung in der Reihe der Online Brunch Lectures: "Filmwis
 senschaftliche Daten explorativ erschließen"
LAST-MODIFIED:20231012T115352Z
LOCATION:Online
URL:https://www.uni-marburg.de/de/fb09/medienwissenschaft/aktuelles/termin
 e/online-brunch-lecture-daten-bereinigen-und-anreichern-mit-openrefine
END:VEVENT
BEGIN:VTIMEZONE
TZID:Europe/Berlin
X-LIC-LOCATION:Europe/Berlin
BEGIN:STANDARD
DTSTART:20231029T020000
TZNAME:CET
TZOFFSETFROM:+0200
TZOFFSETTO:+0100
END:STANDARD
END:VTIMEZONE
END:VCALENDAR
