BEGIN:VCALENDAR
VERSION:2.0
PRODID:-//Plone.org//NONSGML plone.app.event//EN
X-WR-TIMEZONE:Europe/Berlin
BEGIN:VEVENT
SUMMARY:Online-Workshop: (Automated) Video Annotation
DTSTART;TZID=Europe/Berlin:20210426T100000
DTEND;TZID=Europe/Berlin:20210426T113000
DTSTAMP:20260421T020651Z
UID:f84a0e00c80f40139f2d47628807b5e7@www.uni-marburg.de
RRULE:FREQ=DAILY;COUNT=3
EXDATE;TZID=Europe/Berlin:20210427T100000
ATTENDEE;CN="Dr. James Trujillo (CoSI lab Nijmegen/Netherlands)";ROLE=REQ-
 PARTICIPANT:Dr. James Trujillo (CoSI lab Nijmegen/Netherlands)
CREATED:20210421T111129Z
DESCRIPTION:https://www.uni-marburg.de/de/fb09/medienwissenschaft/aktuelle
 s/termine/online-workshop-automated-video-annotation\n
LAST-MODIFIED:20210421T111209Z
LOCATION:Online (Zoom)
URL:https://www.uni-marburg.de/de/fb09/medienwissenschaft/aktuelles/termin
 e/online-workshop-automated-video-annotation
END:VEVENT
BEGIN:VTIMEZONE
TZID:Europe/Berlin
X-LIC-LOCATION:Europe/Berlin
BEGIN:DAYLIGHT
DTSTART:20210328T030000
TZNAME:CEST
TZOFFSETFROM:+0100
TZOFFSETTO:+0200
END:DAYLIGHT
END:VTIMEZONE
END:VCALENDAR
