BEGIN:VCALENDAR
VERSION:2.0
PRODID:-//Plone.org//NONSGML plone.app.event//EN
X-WR-TIMEZONE:Europe/Berlin
BEGIN:VEVENT
SUMMARY:Online-Workshop: Transkription und Annotation von Videoaufnahmen m
 it ELAN
DTSTART;TZID=Europe/Berlin:20210414T093000
DTEND;TZID=Europe/Berlin:20210414T110000
DTSTAMP:20260422T021910Z
UID:07cc82a081394a298319101d769e7a15@www.uni-marburg.de
ATTENDEE;CN="Paul Goerigk";ROLE=REQ-PARTICIPANT:Paul Goerigk
CREATED:20210409T073459Z
DESCRIPTION:https://www.uni-marburg.de/de/fb09/medienwissenschaft/aktuelle
 s/termine/online-workshop-transkription-und-annotation-von-videoaufnahmen-
 mit-elan-1\n
LAST-MODIFIED:20210409T073512Z
LOCATION:Online (Zoom)
URL:https://www.uni-marburg.de/de/fb09/medienwissenschaft/aktuelles/termin
 e/online-workshop-transkription-und-annotation-von-videoaufnahmen-mit-elan
 -1
END:VEVENT
BEGIN:VTIMEZONE
TZID:Europe/Berlin
X-LIC-LOCATION:Europe/Berlin
BEGIN:DAYLIGHT
DTSTART:20210328T030000
TZNAME:CEST
TZOFFSETFROM:+0100
TZOFFSETTO:+0200
END:DAYLIGHT
END:VTIMEZONE
END:VCALENDAR
