BEGIN:VCALENDAR
VERSION:2.0
PRODID:-//Plone.org//NONSGML plone.app.event//EN
X-WR-TIMEZONE:Europe/Berlin
BEGIN:VEVENT
SUMMARY:Orientierungswoche am FB 09
DTSTART;VALUE=DATE:20191007
DTEND;VALUE=DATE:20191012
DTSTAMP:20260421T133334Z
UID:be20caed6c2f44a99a2a6260706fbd00@www.uni-marburg.de
CREATED:20190912T115853Z
DESCRIPTION:https://www.uni-marburg.de/de/fb09/medienwissenschaft/aktuelle
 s/termine/orientierungswoche-am-fb-09\n
LAST-MODIFIED:20190912T115912Z
LOCATION:Fachbereich 09 - Germanistik und Kunstwissenschaften
URL:https://www.uni-marburg.de/de/fb09/medienwissenschaft/aktuelles/termin
 e/orientierungswoche-am-fb-09
END:VEVENT
END:VCALENDAR
