BEGIN:VCALENDAR
VERSION:2.0
PRODID:-//Plone.org//NONSGML plone.app.event//EN
X-WR-TIMEZONE:Europe/Berlin
BEGIN:VEVENT
SUMMARY:Präsentation des studentischen Projekts zu "KI und Mode"
DTSTART;TZID=Europe/Berlin:20260128T121500
DTEND;TZID=Europe/Berlin:20260128T134500
DTSTAMP:20260424T144706Z
UID:d76e441f84064f4cb4b024992a718758@www.uni-marburg.de
CATEGORIES:()
CREATED:20260115T115424Z
DESCRIPTION:https://www.uni-marburg.de/de/fb09/medienwissenschaft/aktuelle
 s/termine/praesentation-des-studentischen-projekts-zu-ki-und-mode\n
LAST-MODIFIED:20260115T120238Z
LOCATION:Wilhelm-Röpke-Str. 6\, Hörsaal 01H01
URL:https://www.uni-marburg.de/de/fb09/medienwissenschaft/aktuelles/termin
 e/praesentation-des-studentischen-projekts-zu-ki-und-mode
END:VEVENT
BEGIN:VTIMEZONE
TZID:Europe/Berlin
X-LIC-LOCATION:Europe/Berlin
BEGIN:STANDARD
DTSTART:20251026T020000
TZNAME:CET
TZOFFSETFROM:+0200
TZOFFSETTO:+0100
END:STANDARD
END:VTIMEZONE
END:VCALENDAR
