BEGIN:VCALENDAR
VERSION:2.0
PRODID:-//Plone.org//NONSGML plone.app.event//EN
X-WR-TIMEZONE:Europe/Berlin
BEGIN:VEVENT
SUMMARY:Prof. Dr. Hubertus Kohle (Kunstgeschichte\, München): Repositorie
 n - vom Datencontainer zum Diskursraum
DTSTART;TZID=Europe/Berlin:20171116T181500
DTEND;TZID=Europe/Berlin:20171116T201500
DTSTAMP:20260424T211309Z
UID:2c7fd2611eda472a9346c6be044765b9@www.uni-marburg.de
CREATED:20171109T080930Z
DESCRIPTION:https://www.uni-marburg.de/de/fb09/medienwissenschaft/aktuelle
 s/termine/prof-dr-hubertus-kohle-kunstgeschichte-muenchen-repositorien-vom
 -datencontainer-zum-diskursraum\nÖffentlicher Abendvortrag im Rahmen des 
 Workshops »Aufbau und Ausbau eines medienwissenschaftlichen Repositoriums
 «
LAST-MODIFIED:20171109T091443Z
LOCATION:Konferenzraum im Deutschen Sprachatlas\,  Pilgrimstein 16\, Marbu
 rg
URL:https://www.uni-marburg.de/de/fb09/medienwissenschaft/aktuelles/termin
 e/prof-dr-hubertus-kohle-kunstgeschichte-muenchen-repositorien-vom-datenco
 ntainer-zum-diskursraum
END:VEVENT
BEGIN:VTIMEZONE
TZID:Europe/Berlin
X-LIC-LOCATION:Europe/Berlin
BEGIN:STANDARD
DTSTART:20171029T020000
TZNAME:CET
TZOFFSETFROM:+0200
TZOFFSETTO:+0100
END:STANDARD
END:VTIMEZONE
END:VCALENDAR
