BEGIN:VCALENDAR
VERSION:2.0
PRODID:-//Plone.org//NONSGML plone.app.event//EN
X-WR-TIMEZONE:Europe/Berlin
BEGIN:VEVENT
SUMMARY:Researching Amateur Film Cultures – Methods and Materials
DTSTART;TZID=Europe/Berlin:20180524T140000
DTEND;TZID=Europe/Berlin:20180525T140000
DTSTAMP:20260424T232145Z
UID:5429f5e2f40e41438c5cd4ec097dd836@www.uni-marburg.de
CREATED:20180515T105141Z
DESCRIPTION:https://www.uni-marburg.de/de/fb09/medienwissenschaft/aktuelle
 s/termine/researching-amateur-film-cultures-methods-and-materials\nInterna
 tionaler Workshop
LAST-MODIFIED:20180522T100213Z
LOCATION:Philipps-Universität Marburg\, Philosophische Fakultät\, Wilhel
 m-Röpke-Str. 6A\, Raum 05A10 (Turm A\, 5. Etage)
URL:https://www.uni-marburg.de/de/fb09/medienwissenschaft/aktuelles/termin
 e/researching-amateur-film-cultures-methods-and-materials
END:VEVENT
BEGIN:VTIMEZONE
TZID:Europe/Berlin
X-LIC-LOCATION:Europe/Berlin
BEGIN:DAYLIGHT
DTSTART:20180325T030000
TZNAME:CEST
TZOFFSETFROM:+0100
TZOFFSETTO:+0200
END:DAYLIGHT
END:VTIMEZONE
END:VCALENDAR
