BEGIN:VCALENDAR
VERSION:2.0
PRODID:-//Plone.org//NONSGML plone.app.event//EN
X-WR-TIMEZONE:Europe/Berlin
BEGIN:VEVENT
SUMMARY:Ringvorlesung: KI und Medienumbrüche der Künste\, Christian Bana
 sik (Düsseldorf)
DTSTART;TZID=Europe/Berlin:20240701T181500
DTEND;TZID=Europe/Berlin:20240701T194500
DTSTAMP:20260425T225318Z
UID:5873628bbd2a436881d4feb00df55889@www.uni-marburg.de
CREATED:20240502T100726Z
DESCRIPTION:https://www.uni-marburg.de/de/fb09/medienwissenschaft/aktuelle
 s/termine/ringvorlesung-ki-und-medienumbrueche-der-kuenste-christian-banas
 ik-duesseldorf\n
LAST-MODIFIED:20240502T100754Z
LOCATION:CNMS\, Hörsaal 00A26\, Deutschhausstraße 12\, 35032 Marburg und
  online
URL:https://www.uni-marburg.de/de/fb09/medienwissenschaft/aktuelles/termin
 e/ringvorlesung-ki-und-medienumbrueche-der-kuenste-christian-banasik-duess
 eldorf
END:VEVENT
BEGIN:VTIMEZONE
TZID:Europe/Berlin
X-LIC-LOCATION:Europe/Berlin
BEGIN:DAYLIGHT
DTSTART:20240331T030000
TZNAME:CEST
TZOFFSETFROM:+0100
TZOFFSETTO:+0200
END:DAYLIGHT
END:VTIMEZONE
END:VCALENDAR
