BEGIN:VCALENDAR
VERSION:2.0
PRODID:-//Plone.org//NONSGML plone.app.event//EN
X-WR-TIMEZONE:Europe/Berlin
BEGIN:VEVENT
SUMMARY:Ringvorlesung: KI und Medienumbrüche der Künste\, Dr. Kathrin Ya
 cavone
DTSTART;TZID=Europe/Berlin:20240415T181500
DTEND;TZID=Europe/Berlin:20240415T194600
DTSTAMP:20260425T133226Z
UID:fb889c6da8ce4e01919cd739e0d23db8@www.uni-marburg.de
CREATED:20240331T194433Z
DESCRIPTION:https://www.uni-marburg.de/de/fb09/medienwissenschaft/aktuelle
 s/termine/ringvorlesung-ki-und-medienumbrueche-der-kuenste-dr-kathrin-yaca
 vone\n
LAST-MODIFIED:20240331T200011Z
LOCATION:CNMS\, Hörsaal 00A26\, Deutschhausstraße 12\, 35032 Marburg und
  online
URL:https://www.uni-marburg.de/de/fb09/medienwissenschaft/aktuelles/termin
 e/ringvorlesung-ki-und-medienumbrueche-der-kuenste-dr-kathrin-yacavone
END:VEVENT
BEGIN:VTIMEZONE
TZID:Europe/Berlin
X-LIC-LOCATION:Europe/Berlin
BEGIN:DAYLIGHT
DTSTART:20240331T030000
TZNAME:CEST
TZOFFSETFROM:+0100
TZOFFSETTO:+0200
END:DAYLIGHT
END:VTIMEZONE
END:VCALENDAR
