BEGIN:VCALENDAR
VERSION:2.0
PRODID:-//Plone.org//NONSGML plone.app.event//EN
X-WR-TIMEZONE:Europe/Berlin
BEGIN:VEVENT
SUMMARY:Ringvorlesung: KI und Medienumbrüche der Künste\,  Maren Burghar
 d (Nürnberg)
DTSTART;TZID=Europe/Berlin:20240527T181500
DTEND;TZID=Europe/Berlin:20240527T194500
DTSTAMP:20260425T203207Z
UID:7c9c0ab20aa041268db4c982bf2d5ccb@www.uni-marburg.de
CREATED:20240502T083449Z
DESCRIPTION:https://www.uni-marburg.de/de/fb09/medienwissenschaft/aktuelle
 s/termine/ringvorlesung-ki-und-medienumbrueche-der-kuenste-maren-burghard-
 nuernberg\n
LAST-MODIFIED:20240502T083524Z
LOCATION:CNMS\, Hörsaal 00A26\, Deutschhausstraße 12\, 35032 Marburg und
  online
URL:https://www.uni-marburg.de/de/fb09/medienwissenschaft/aktuelles/termin
 e/ringvorlesung-ki-und-medienumbrueche-der-kuenste-maren-burghard-nuernber
 g
END:VEVENT
BEGIN:VTIMEZONE
TZID:Europe/Berlin
X-LIC-LOCATION:Europe/Berlin
BEGIN:DAYLIGHT
DTSTART:20240331T030000
TZNAME:CEST
TZOFFSETFROM:+0100
TZOFFSETTO:+0200
END:DAYLIGHT
END:VTIMEZONE
END:VCALENDAR
