BEGIN:VCALENDAR
VERSION:2.0
PRODID:-//Plone.org//NONSGML plone.app.event//EN
X-WR-TIMEZONE:Europe/Berlin
BEGIN:VEVENT
SUMMARY:Silvered Water\, Syria Self-Portrait (Syrien/Frankreich 2014\, 92 
 Min.)
DTSTART;TZID=Europe/Berlin:20191125T180000
DTSTAMP:20260425T131027Z
UID:f18902e9681247a09134f1fe835bbe8d@www.uni-marburg.de
CREATED:20191011T175631Z
DESCRIPTION:https://www.uni-marburg.de/de/fb09/medienwissenschaft/aktuelle
 s/termine/silvered-water-syria-self-portrait-syrien-frankreich-2014-92-min
 \n
LAST-MODIFIED:20191011T175648Z
LOCATION:Capitol Kino\, Biegenstraße 8
URL:https://www.uni-marburg.de/de/fb09/medienwissenschaft/aktuelles/termin
 e/silvered-water-syria-self-portrait-syrien-frankreich-2014-92-min
END:VEVENT
BEGIN:VTIMEZONE
TZID:Europe/Berlin
X-LIC-LOCATION:Europe/Berlin
BEGIN:STANDARD
DTSTART:20191027T020000
TZNAME:CET
TZOFFSETFROM:+0200
TZOFFSETTO:+0100
END:STANDARD
END:VTIMEZONE
END:VCALENDAR
