BEGIN:VCALENDAR
VERSION:2.0
PRODID:-//Plone.org//NONSGML plone.app.event//EN
X-WR-TIMEZONE:Europe/Berlin
BEGIN:VEVENT
SUMMARY:Vorreihe Marburger Kamerapreis 2026: PACHINKO (OmU)
DTSTART;TZID=Europe/Berlin:20260415T193000
DTEND;TZID=Europe/Berlin:20260415T220000
DTSTAMP:20260424T175424Z
UID:717404da0f844107b025f525a4a92a96@www.uni-marburg.de
ATTENDEE;CN="Mit einer Einführung von Christian Alexius (Organisationslei
 tung Marburger Kamerapreis und wissenschaftlicher Mitarbeiter am Institut 
 für Medienwissenschaft)";ROLE=REQ-PARTICIPANT:Mit einer Einführung von C
 hristian Alexius (Organisationsleitung Marburger Kamerapreis und wissensch
 aftlicher Mitarbeiter am Institut für Medienwissenschaft)
CREATED:20260414T211546Z
DESCRIPTION:https://www.uni-marburg.de/de/fb09/medienwissenschaft/aktuelle
 s/termine/vorreihe-marburger-kamerapreis-2026-pachinko-omu\n
LAST-MODIFIED:20260414T211608Z
LOCATION:Capitol Kino Marburg
URL:https://www.uni-marburg.de/de/fb09/medienwissenschaft/aktuelles/termin
 e/vorreihe-marburger-kamerapreis-2026-pachinko-omu
END:VEVENT
BEGIN:VTIMEZONE
TZID:Europe/Berlin
X-LIC-LOCATION:Europe/Berlin
BEGIN:DAYLIGHT
DTSTART:20260329T030000
TZNAME:CEST
TZOFFSETFROM:+0100
TZOFFSETTO:+0200
END:DAYLIGHT
END:VTIMEZONE
END:VCALENDAR
