BEGIN:VCALENDAR
VERSION:2.0
PRODID:-//Plone.org//NONSGML plone.app.event//EN
X-WR-TIMEZONE:Europe/Berlin
BEGIN:VEVENT
SUMMARY:Vorreihe Marburger Kamerapreis 2026: Spezielle Vorlesung zu OFFICI
 AL SECRETS (OmU)
DTSTART;TZID=Europe/Berlin:20260429T193000
DTEND;TZID=Europe/Berlin:20260429T221500
DTSTAMP:20260426T023707Z
UID:1faffdc96fe746b0a1614cf6c38ed81c@www.uni-marburg.de
ATTENDEE;CN="Mit einer Einführung von Dr. Martin Jehle (Organisationsleit
 ung Marburger Kamerapreis und wissenschaftlicher Mitarbeiter am Institut f
 ür Medienwissenschaft)";ROLE=REQ-PARTICIPANT:Mit einer Einführung von Dr
 . Martin Jehle (Organisationsleitung Marburger Kamerapreis und wissenschaf
 tlicher Mitarbeiter am Institut für Medienwissenschaft)
CATEGORIES:()
CREATED:20260419T103221Z
DESCRIPTION:https://www.uni-marburg.de/de/fb09/medienwissenschaft/aktuelle
 s/termine/vorreihe-marburger-kamerapreis-2026-spezielle-vorlesung-zu-offic
 ial-secrets-omu\n
LAST-MODIFIED:20260423T122532Z
LOCATION:Capitol Kino Marburg
URL:https://www.uni-marburg.de/de/fb09/medienwissenschaft/aktuelles/termin
 e/vorreihe-marburger-kamerapreis-2026-spezielle-vorlesung-zu-official-secr
 ets-omu
END:VEVENT
BEGIN:VTIMEZONE
TZID:Europe/Berlin
X-LIC-LOCATION:Europe/Berlin
BEGIN:DAYLIGHT
DTSTART:20260329T030000
TZNAME:CEST
TZOFFSETFROM:+0100
TZOFFSETTO:+0200
END:DAYLIGHT
END:VTIMEZONE
END:VCALENDAR
