BEGIN:VCALENDAR
VERSION:2.0
PRODID:-//Plone.org//NONSGML plone.app.event//EN
X-WR-TIMEZONE:Europe/Berlin
BEGIN:VEVENT
SUMMARY:Vorreihe Marburger Kamerapreis 2026: THE TERROR (OmU)
DTSTART;TZID=Europe/Berlin:20260506T193000
DTEND;TZID=Europe/Berlin:20260506T220000
DTSTAMP:20260424T211229Z
UID:826c9669257445b3a7049d6f8c071362@www.uni-marburg.de
ATTENDEE;CN="Mit einer Einführung von Alice Volpe (Studentische Hilfskraf
 t Marburger Kamerapreis)";ROLE=REQ-PARTICIPANT:Mit einer Einführung von A
 lice Volpe (Studentische Hilfskraft Marburger Kamerapreis)
CATEGORIES:()
CREATED:20260419T103900Z
DESCRIPTION:https://www.uni-marburg.de/de/fb09/medienwissenschaft/aktuelle
 s/termine/vorreihe-marburger-kamerapreis-2026-the-terror-omu\n
LAST-MODIFIED:20260423T122312Z
LOCATION:Capitol Kino Marburg
URL:https://www.uni-marburg.de/de/fb09/medienwissenschaft/aktuelles/termin
 e/vorreihe-marburger-kamerapreis-2026-the-terror-omu
END:VEVENT
BEGIN:VTIMEZONE
TZID:Europe/Berlin
X-LIC-LOCATION:Europe/Berlin
BEGIN:DAYLIGHT
DTSTART:20260329T030000
TZNAME:CEST
TZOFFSETFROM:+0100
TZOFFSETTO:+0200
END:DAYLIGHT
END:VTIMEZONE
END:VCALENDAR
