BEGIN:VCALENDAR
VERSION:2.0
PRODID:-//Plone.org//NONSGML plone.app.event//EN
X-WR-TIMEZONE:Europe/Berlin
BEGIN:VEVENT
SUMMARY:Dr. Ignas Kalpokas\, "Societies at an AI Crossroads: Choices and V
 alue Conflicts"
DTSTART;TZID=Europe/Berlin:20251105T181500
DTEND;TZID=Europe/Berlin:20251105T194500
DTSTAMP:20260425T203119Z
UID:1761838535564766908614bb6fdb424d@www.uni-marburg.de
CATEGORIES:()
CREATED:20251023T180119Z
DESCRIPTION:https://www.uni-marburg.de/de/fb09/medienwissenschaft/aktuelle
 s/termine/vortrag-auf-englisch-dr-ignas-kalpokas-societies-at-an-ai-crossr
 oads-choices-and-value-conflicts\nVortrag auf Englisch
LAST-MODIFIED:20251024T080350Z
LOCATION:Raum 205 (SEM +2/0050)\, Pilgrimstein 12\, Seminargebäude
URL:https://www.uni-marburg.de/de/fb09/medienwissenschaft/aktuelles/termin
 e/vortrag-auf-englisch-dr-ignas-kalpokas-societies-at-an-ai-crossroads-cho
 ices-and-value-conflicts
END:VEVENT
BEGIN:VTIMEZONE
TZID:Europe/Berlin
X-LIC-LOCATION:Europe/Berlin
BEGIN:STANDARD
DTSTART:20251026T020000
TZNAME:CET
TZOFFSETFROM:+0200
TZOFFSETTO:+0100
END:STANDARD
END:VTIMEZONE
END:VCALENDAR
