BEGIN:VCALENDAR
VERSION:2.0
PRODID:-//Plone.org//NONSGML plone.app.event//EN
X-WR-TIMEZONE:Europe/Berlin
BEGIN:VEVENT
SUMMARY:Workshop des FID Media: „Rethinking Openness in 2025. Open-Scien
 ce-Transformation in der Kommunikations- und Medienwissenschaft im Zeitalt
 er von KI“
DTSTART;TZID=Europe/Berlin:20251024T090000
DTEND;TZID=Europe/Berlin:20251024T164500
DTSTAMP:20260426T002434Z
UID:e17e818bb1a84fce926d79386f0143ef@www.uni-marburg.de
CATEGORIES:()
CREATED:20251020T112518Z
DESCRIPTION:https://www.uni-marburg.de/de/fb09/medienwissenschaft/aktuelle
 s/termine/workshop-des-fid-media-open-science-transformation-in-der-kommun
 ikations-und-medienwissenschaft-im-zeitalter-von-ki\n
LAST-MODIFIED:20251020T112646Z
LOCATION:Vortragssaal der Universitätsbibliothek Marburg\, Deutschhausstr
 . 9
URL:https://www.uni-marburg.de/de/fb09/medienwissenschaft/aktuelles/termin
 e/workshop-des-fid-media-open-science-transformation-in-der-kommunikations
 -und-medienwissenschaft-im-zeitalter-von-ki
END:VEVENT
BEGIN:VTIMEZONE
TZID:Europe/Berlin
X-LIC-LOCATION:Europe/Berlin
BEGIN:DAYLIGHT
DTSTART:20250330T030000
TZNAME:CEST
TZOFFSETFROM:+0100
TZOFFSETTO:+0200
END:DAYLIGHT
END:VTIMEZONE
END:VCALENDAR
