BEGIN:VCALENDAR
VERSION:2.0
PRODID:-//Plone.org//NONSGML plone.app.event//EN
X-WR-TIMEZONE:Europe/Berlin
BEGIN:VEVENT
SUMMARY:Workshop „Guerilla Film“ mit Regisseur Marco Wilms (Berlin)
DTSTART;TZID=Europe/Berlin:20191015T100000
DTEND;TZID=Europe/Berlin:20191015T120000
DTSTAMP:20260422T025929Z
UID:34cf9c5752e74a9b9295c1118258977f@www.uni-marburg.de
CREATED:20191011T175111Z
DESCRIPTION:https://www.uni-marburg.de/de/fb09/medienwissenschaft/aktuelle
 s/termine/workshop-guerilla-film-mit-regisseur-marco-wilms-berlin\n
LAST-MODIFIED:20191011T175207Z
LOCATION:CNMS\, Deutschhausstraße 12\, Raum 01A03
URL:https://www.uni-marburg.de/de/fb09/medienwissenschaft/aktuelles/termin
 e/workshop-guerilla-film-mit-regisseur-marco-wilms-berlin
END:VEVENT
BEGIN:VTIMEZONE
TZID:Europe/Berlin
X-LIC-LOCATION:Europe/Berlin
BEGIN:DAYLIGHT
DTSTART:20190331T030000
TZNAME:CEST
TZOFFSETFROM:+0100
TZOFFSETTO:+0200
END:DAYLIGHT
END:VTIMEZONE
END:VCALENDAR
