BEGIN:VCALENDAR
VERSION:2.0
PRODID:-//Plone.org//NONSGML plone.app.event//EN
X-WR-TIMEZONE:Europe/Berlin
BEGIN:VEVENT
SUMMARY:Workshop mit Jörg Reisig: Einführung in das Game Design
DTSTART;TZID=Europe/Berlin:20200125T140000
DTEND;TZID=Europe/Berlin:20200125T180000
DTSTAMP:20260421T133340Z
UID:93bdac27d4c84b03b62ce0623c193caf@www.uni-marburg.de
CREATED:20191106T103629Z
DESCRIPTION:https://www.uni-marburg.de/de/fb09/medienwissenschaft/aktuelle
 s/termine/workshop-mit-joerg-reisig-einfuehrung-in-das-game-design\nMedien
 praxis-Reihe "Doing Audio-Visual Media: Einblicke in die Praxis der Comput
 erspielbranche"
LAST-MODIFIED:20191106T103705Z
LOCATION:UB\, B013\, Schulungsraum im EG
URL:https://www.uni-marburg.de/de/fb09/medienwissenschaft/aktuelles/termin
 e/workshop-mit-joerg-reisig-einfuehrung-in-das-game-design
END:VEVENT
BEGIN:VTIMEZONE
TZID:Europe/Berlin
X-LIC-LOCATION:Europe/Berlin
BEGIN:STANDARD
DTSTART:20191027T020000
TZNAME:CET
TZOFFSETFROM:+0200
TZOFFSETTO:+0100
END:STANDARD
END:VTIMEZONE
END:VCALENDAR
